BEGIN:VCALENDAR
VERSION:2.0
PRODID:-//Feminists for Liberty - ECPv6.15.20//NONSGML v1.0//EN
CALSCALE:GREGORIAN
METHOD:PUBLISH
X-WR-CALNAME:Feminists for Liberty
X-ORIGINAL-URL:https://feministsforliberty.com
X-WR-CALDESC:Events for Feminists for Liberty
REFRESH-INTERVAL;VALUE=DURATION:PT1H
X-Robots-Tag:noindex
X-PUBLISHED-TTL:PT1H
BEGIN:VTIMEZONE
TZID:UTC
BEGIN:STANDARD
TZOFFSETFROM:+0000
TZOFFSETTO:+0000
TZNAME:UTC
DTSTART:20200101T000000
END:STANDARD
END:VTIMEZONE
BEGIN:VEVENT
DTSTART;TZID=UTC:20210411T170000
DTEND;TZID=UTC:20210411T180000
DTSTAMP:20260423T223607
CREATED:20210402T173743Z
LAST-MODIFIED:20210402T174031Z
UID:4296-1618160400-1618164000@feministsforliberty.com
SUMMARY:Liberating Women: For Us\, By Us
DESCRIPTION:From our friends at COYOTE Rhode Island: \nLiberating Women: for us\, by us: COYOTE RI and the Formerly Incarcerated Union of RI will be gathering on the second Sunday of each month from 5-6pm to discuss how to stop women in RI from being arrested\, jailed\, convicted\, and separated from their loved ones. Our goal is to host a monthly coalition meeting to brainstorm how we can protect RI women from carceral\, state-sponsored violence. Future discussions will center topics such as the decriminalization of sex work and drug use\, policing of poverty\, parent/caregiver legislation\, clemency\, bailout programs\, mutual aid networks\, and much more. \nFor more information visit the Facebook page for this event linked here. \nJoin us for our first conversation: Sun\, April 11th from 5:00-6:00pm \nZoom Link: https://brown.zoom.us/j/91350841165. Call in number: 877 853 5247 Meeting ID: 913 5084 1165
URL:https://feministsforliberty.com/event/libertarian-women-for-us-by-us-coyote-ri-event/
LOCATION:Zoom\, United States
CATEGORIES:Activism & Organizing,Criminal Justice Reform,Discussion Group
END:VEVENT
END:VCALENDAR