BEGIN:VCALENDAR
VERSION:2.0
PRODID:-//Feminists for Liberty - ECPv6.15.20//NONSGML v1.0//EN
CALSCALE:GREGORIAN
METHOD:PUBLISH
X-ORIGINAL-URL:https://feministsforliberty.com
X-WR-CALDESC:Events for Feminists for Liberty
REFRESH-INTERVAL;VALUE=DURATION:PT1H
X-Robots-Tag:noindex
X-PUBLISHED-TTL:PT1H
BEGIN:VTIMEZONE
TZID:UTC
BEGIN:STANDARD
TZOFFSETFROM:+0000
TZOFFSETTO:+0000
TZNAME:UTC
DTSTART:20200101T000000
END:STANDARD
END:VTIMEZONE
BEGIN:VEVENT
DTSTART;TZID=UTC:20210501T140000
DTEND;TZID=UTC:20210501T170000
DTSTAMP:20260424T031305
CREATED:20210402T174533Z
LAST-MODIFIED:20210402T174533Z
UID:4300-1619877600-1619888400@feministsforliberty.com
SUMMARY:Celebration of Life for Margo St. James
DESCRIPTION:From COYOTE RI: \nMargo St. James\, who founded COYOTE and later\, the St. James Infirmary passed away January 11\, 2021. \nA are a group of Margo’s friends\, colleagues and a collective of supporters are producing an international tribute event on May 1\, 2021 — “virtually”. It will run an hour and a half to two hours. Everyone is welcome to watch. \nThe virtual event on Saturday\, May 1st is free\, however you DO need to REGISTER in order to receive the link to the event.
URL:https://feministsforliberty.com/event/celebration-of-life-for-margo-st-james/
LOCATION:Zoom\, United States
CATEGORIES:Memorial
END:VEVENT
END:VCALENDAR